BEGIN:VCALENDAR
VERSION:2.0
PRODID:-//Tukios.com/
BEGIN:VEVENT
UID:73b98782-62b9-4695-92f8-e1027239708b@www.bonnerupfuneralservice.com
DTSTAMP:20260421T211551Z
DTSTART:20260427T160000Z
DTEND:20260427T170000Z
SUMMARY:Memorial Service
DESCRIPTION:
URL:https://www.bonnerupfuneralservice.com/obituaries/ronald-freeman
LOCATION:Crossroads Church 3402 Hoeger Ln  Albert Lea MN 56007
GEO:43.6966489;-93.3605406
END:VEVENT
END:VCALENDAR