BEGIN:VCALENDAR
VERSION:2.0
PRODID:-//Tukios.com/
BEGIN:VEVENT
UID:c0a4c2a9-d06c-4358-ac80-110b6c8588f3@www.bonnerupfuneralservice.com
DTSTAMP:20260421T211546Z
DTSTART:20260427T150000Z
DTEND:20260427T160000Z
SUMMARY:Visitation
DESCRIPTION:
URL:https://www.bonnerupfuneralservice.com/obituaries/ronald-freeman
LOCATION:Crossroads Church 3402 Hoeger Ln  Albert Lea MN 56007
GEO:43.6966489;-93.3605406
END:VEVENT
END:VCALENDAR