BEGIN:VCALENDAR
VERSION:2.0
PRODID:-//Tukios.com/
BEGIN:VEVENT
UID:d9586891-f505-45a5-ada9-94e263e632c4@www.bonnerupfuneralservice.com
DTSTAMP:20260421T211425Z
DTSTART:20260426T210000Z
DTEND:20260426T230000Z
SUMMARY:Visitation
DESCRIPTION:
URL:https://www.bonnerupfuneralservice.com/obituaries/ronald-freeman
LOCATION: 2210 East Main Street  Albert Lea MN 56007
GEO:43.6538956;-93.3381833
END:VEVENT
END:VCALENDAR